BEGIN:VCALENDAR
VERSION:2.0
PRODID:-//ChamberMaster//Event Calendar 2.0//EN
METHOD:PUBLISH
X-PUBLISHED-TTL:P3D
REFRESH-INTERVAL:P3D
CALSCALE:GREGORIAN
BEGIN:VEVENT
DTSTART:20241005T140000Z
DTEND:20241005T200000Z
X-MICROSOFT-CDO-ALLDAYEVENT:FALSE
SUMMARY:OKTOBERFEST
DESCRIPTION:Arts\, Crafts\, Games\, Rides\, Live Entertainment\, Food and Much More!\n\nCheck us out on facebook at Oktoberfest Moody
X-ALT-DESC;FMTTYPE=text/html:Arts\, Crafts\, Games\, Rides\, Live Entertainment\, Food and Much More!<br />\nCheck us out on facebook at Oktoberfest Moody
LOCATION:Moody City Park
UID:e.3210.304
SEQUENCE:3
DTSTAMP:20260422T051848Z
URL:https://business.moodyalchamber.com/events/details/oktoberfest-10-05-2024-304
END:VEVENT

END:VCALENDAR
