BEGIN:VCALENDAR
VERSION:2.0
PRODID:-//ChamberMaster//Event Calendar 2.0//EN
METHOD:PUBLISH
X-PUBLISHED-TTL:P3D
REFRESH-INTERVAL:P3D
CALSCALE:GREGORIAN
BEGIN:VEVENT
DTSTART:20320108T173000Z
DTEND:20320108T190000Z
X-MICROSOFT-CDO-ALLDAYEVENT:FALSE
SUMMARY:Moody Chamber Members Luncheon
DESCRIPTION:Moody Area Chamber of Commerce Monthly Membership Luncheon\n\n\n\nEmail the office for a reservation by 2pm the Monday prior
X-ALT-DESC;FMTTYPE=text/html:Moody Area Chamber of Commerce Monthly Membership Luncheon<br />\n<br />\nEmail the office for a reservation by 2pm the Monday prior
LOCATION:Moody City Hall
UID:e.3210.393
SEQUENCE:3
DTSTAMP:20260423T203001Z
URL:https://business.moodyalchamber.com/events/details/moody-chamber-members-luncheon-01-08-2032-393
END:VEVENT

END:VCALENDAR
