BEGIN:VCALENDAR
VERSION:2.0
PRODID:-//ChamberMaster//Event Calendar 2.0//EN
METHOD:PUBLISH
X-PUBLISHED-TTL:P3D
REFRESH-INTERVAL:P3D
CALSCALE:GREGORIAN
BEGIN:VEVENT
DTSTART:20230914T163000Z
DTEND:20230914T180000Z
X-MICROSOFT-CDO-ALLDAYEVENT:FALSE
SUMMARY:MACC Members Luncheon
DESCRIPTION:Moody Area Chamber of Commerce Monthly Membership Networking Luncheon.   Join us for a delicious lunch\, informative speaker and a time to share about you and your business.   Relationships Matter!
X-ALT-DESC;FMTTYPE=text/html:Moody Area Chamber of Commerce Monthly Membership Networking Luncheon.&nbsp\; &nbsp\;Join us for a delicious lunch\, informative speaker and a time to share about you and your business.&nbsp\; &nbsp\;Relationships Matter!
LOCATION:Moody Civic Center 200 Civic Center Drive Moody\, AL 35004 205.640.0321
UID:e.3210.313
SEQUENCE:3
DTSTAMP:20260423T040931Z
URL:https://business.moodyalchamber.com/events/details/macc-members-luncheon-313
END:VEVENT

END:VCALENDAR
